BEGIN:VCALENDAR
VERSION:2.0
PRODID:-//Hudson Valley DockDogs - ECPv6.6.4.2//NONSGML v1.0//EN
CALSCALE:GREGORIAN
METHOD:PUBLISH
X-ORIGINAL-URL:http://hudsonvalleydockdogs.com
X-WR-CALDESC:Events for Hudson Valley DockDogs
REFRESH-INTERVAL;VALUE=DURATION:PT1H
X-Robots-Tag:noindex
X-PUBLISHED-TTL:PT1H
BEGIN:VTIMEZONE
TZID:America/New_York
BEGIN:DAYLIGHT
TZOFFSETFROM:-0500
TZOFFSETTO:-0400
TZNAME:EDT
DTSTART:20180311T070000
END:DAYLIGHT
BEGIN:STANDARD
TZOFFSETFROM:-0400
TZOFFSETTO:-0500
TZNAME:EST
DTSTART:20181104T060000
END:STANDARD
END:VTIMEZONE
BEGIN:VEVENT
DTSTART;TZID=America/New_York:20180714T100000
DTEND;TZID=America/New_York:20180714T160000
DTSTAMP:20260422T005844
CREATED:20160525T193309Z
LAST-MODIFIED:20180818T192157Z
UID:326-1531562400-1531584000@hudsonvalleydockdogs.com
SUMMARY:HVDD Potluck Practice (Open to Public)
DESCRIPTION:Our next practice is scheduled for Saturday July 14th.  Bring your pups and your favorite dish to share :).  Anyone can join in on the fun.  Fee for non-members is $20\, which can be applied to a membership
URL:http://hudsonvalleydockdogs.com/event/club-practice-meeting-2/
LOCATION:K9 Aqua Sports Club\, 639 Smithfield Rd\, Millerton\, NY\, United States
CATEGORIES:Practice
ORGANIZER;CN="Hudson Valley DockDogs":MAILTO:info@hudsonvalleydockdogs.com
END:VEVENT
END:VCALENDAR