BEGIN:VCALENDAR
VERSION:2.0
PRODID:-//Hudson Valley DockDogs - ECPv6.6.4.2//NONSGML v1.0//EN
CALSCALE:GREGORIAN
METHOD:PUBLISH
X-ORIGINAL-URL:http://hudsonvalleydockdogs.com
X-WR-CALDESC:Events for Hudson Valley DockDogs
REFRESH-INTERVAL;VALUE=DURATION:PT1H
X-Robots-Tag:noindex
X-PUBLISHED-TTL:PT1H
BEGIN:VTIMEZONE
TZID:America/New_York
BEGIN:DAYLIGHT
TZOFFSETFROM:-0500
TZOFFSETTO:-0400
TZNAME:EDT
DTSTART:20180311T070000
END:DAYLIGHT
BEGIN:STANDARD
TZOFFSETFROM:-0400
TZOFFSETTO:-0500
TZNAME:EST
DTSTART:20181104T060000
END:STANDARD
END:VTIMEZONE
BEGIN:VEVENT
DTSTART;TZID=America/New_York:20180610T100000
DTEND;TZID=America/New_York:20180610T160000
DTSTAMP:20260422T022227
CREATED:20160525T192852Z
LAST-MODIFIED:20180818T192345Z
UID:324-1528624800-1528646400@hudsonvalleydockdogs.com
SUMMARY:HVDD Potluck Open Practice
DESCRIPTION:It’s Here!  The first Potluck Practice of the 2018 season!  Come join in on the fun and bring your favorite small dish to share with friends!  Non-members are welcome to come for a fee of $20 (which can be applied to a membership).  Come see what all the buzz is about!!!
URL:http://hudsonvalleydockdogs.com/event/club-practice-meeting/
LOCATION:K9 Aqua Sports Club\, 639 Smithfield Rd\, Millerton\, NY\, United States
CATEGORIES:Practice
ORGANIZER;CN="Hudson Valley DockDogs":MAILTO:info@hudsonvalleydockdogs.com
END:VEVENT
END:VCALENDAR