BEGIN:VCALENDAR
VERSION:2.0
PRODID:-//Hudson Valley DockDogs - ECPv6.6.4.2//NONSGML v1.0//EN
CALSCALE:GREGORIAN
METHOD:PUBLISH
X-WR-CALNAME:Hudson Valley DockDogs
X-ORIGINAL-URL:http://hudsonvalleydockdogs.com
X-WR-CALDESC:Events for Hudson Valley DockDogs
REFRESH-INTERVAL;VALUE=DURATION:PT1H
X-Robots-Tag:noindex
X-PUBLISHED-TTL:PT1H
BEGIN:VTIMEZONE
TZID:America/New_York
BEGIN:DAYLIGHT
TZOFFSETFROM:-0500
TZOFFSETTO:-0400
TZNAME:EDT
DTSTART:20160313T070000
END:DAYLIGHT
BEGIN:STANDARD
TZOFFSETFROM:-0400
TZOFFSETTO:-0500
TZNAME:EST
DTSTART:20161106T060000
END:STANDARD
BEGIN:DAYLIGHT
TZOFFSETFROM:-0500
TZOFFSETTO:-0400
TZNAME:EDT
DTSTART:20170312T070000
END:DAYLIGHT
BEGIN:STANDARD
TZOFFSETFROM:-0400
TZOFFSETTO:-0500
TZNAME:EST
DTSTART:20171105T060000
END:STANDARD
BEGIN:DAYLIGHT
TZOFFSETFROM:-0500
TZOFFSETTO:-0400
TZNAME:EDT
DTSTART:20180311T070000
END:DAYLIGHT
BEGIN:STANDARD
TZOFFSETFROM:-0400
TZOFFSETTO:-0500
TZNAME:EST
DTSTART:20181104T060000
END:STANDARD
END:VTIMEZONE
BEGIN:VEVENT
DTSTART;VALUE=DATE:20180811
DTEND;VALUE=DATE:20180813
DTSTAMP:20260423T123035
CREATED:20170323T144329Z
LAST-MODIFIED:20180818T173333Z
UID:25538-1533945600-1534118399@hudsonvalleydockdogs.com
SUMMARY:Maine Pet Supplies Dog Dayz 5  SCDD CLUB EVENT (Elliot ME)
DESCRIPTION:Maine Pet Supply Dog Daze 5 \n Sat. Aug 11\, 2018\nOnsite Registration/Practice – 08:00 am\nBig Air Wave # 1 – 09:00 am\nBig Air Wave # 2 – 10:30 am\nExtreme Vertical (All in One Finals) – 12:00 pm\nTry DockDogs – 02:00 pm\nBig Air Wave # 3 – 03:00 pm\nBig Air Wave # 4 – 05:00 pm \nSun. Aug 12\, 2018\nOnsite Registration/Practice – 08:00 am\nBig Air Wave # 5 – 09:00 am\nBig Air Wave # 6 – 11:00 am\nSpeed Retrieve (All in one final) – 01:00 pm\nBig Air Finals – 03:00 pm (Divisional Finals Format)
URL:http://hudsonvalleydockdogs.com/event/dog-dayz-4/
LOCATION:Maine Pet Supply\, 28 Levesque Dr\, Elliot\, ME\, 03903\, United States
CATEGORIES:DockDogs Affiliated Club Event
END:VEVENT
BEGIN:VEVENT
DTSTART;VALUE=DATE:20180609
DTEND;VALUE=DATE:20180611
DTSTAMP:20260423T123035
CREATED:20180420T005804Z
LAST-MODIFIED:20180420T005859Z
UID:25753-1528502400-1528675199@hudsonvalleydockdogs.com
SUMMARY:Caws 4 Paws 2018 GMDD Club Event (Barre\, VT)
DESCRIPTION:Sat. Jun 9\, 2018\nOnsite Registration/Practice – 08:00 am\nBig Air Wave # 1 – 09:00 am\nBig Air Wave # 2 – 10:30 am\nBig Air Wave # 3 – 12:00 pm\nBig Air Wave # 4 – 01:30 pm\nExtreme Vertical (All in One Finals) – 03:30 pm \nSun. Jun 10\, 2018\nOnsite Registration/Practice – 08:00 am\nBig Air Wave # 5 – 09:00 am\nBig Air Wave # 6 – 10:30 am\nSpeed Retrieve (All in One) – 12:30 pm\nBig Air Finals – 02:30 pm (Divisional Finals Format) \nPre-Registration Entry Fees \n$27.00/ team per Big Air\,$27.00/ team per Speed Retrieve wave\,$27.00/ team per Extreme Vertical – For Adult $12.00/ team per Big Air\,$12.00/team per Speed Retrieve wave\,$12.00/ team per Extreme Vertical – For Youth \nOn-Site Registration Entry Fees \n$30.00/ team per Big Air\,$30.00/ team per Speed Retrieve wave\,$30.00/ team per Extreme Vertical – For Adult $15.00/ team per Big Air\,$15.00/ team per Speed Retrieve wave\,$15.00/ team per Extreme Vertical – For Youth
URL:http://hudsonvalleydockdogs.com/event/caws-4-paws-2018-barre-vt/
LOCATION:Barre Elementary School\, 50 Parkside Terrace\, Barre\, VT\, 05641\, United States
CATEGORIES:DockDogs Affiliated Club Event
END:VEVENT
BEGIN:VEVENT
DTSTART;TZID=America/New_York:20180519T080000
DTEND;TZID=America/New_York:20180520T170000
DTSTAMP:20260423T123035
CREATED:20180420T001927Z
LAST-MODIFIED:20180420T010546Z
UID:25748-1526716800-1526835600@hudsonvalleydockdogs.com
SUMMARY:Hudson Valley DockDogs Spring Fling Fun Jump (Millerton\, NY)
DESCRIPTION:Spring Fling Fun Jump \nSat. May 19\, 2018\nOnsite Registration/Practice – 09:00 am\nBig Air Wave # 1 – 10:00 am\nBig Air Wave # 2 – 12:00 pm\nBig Air Wave # 3 – 02:00 pm\nExtreme Vertical (All in One Finals) – 04:00 pm \nSun. May 20\, 2018\nOnsite Registration/Practice – 09:00 am\nBig Air Wave # 4 – 10:00 am\nBig Air Wave # 5 – 12:00 pm\nSpeed Retrieve (All in One) – 02:00 pm\nBig Air Finals – 04:00 pm (Divisional Finals Format) \nPre-Registration Entry Fees \n$10.00/ team per Big Air\,$10.00/ team per Speed Retrieve wave\,$10.00/ team per Extreme Vertical – For Adult $10.00/ team per Big Air\,$10.00/team per Speed Retrieve wave\,$10.00/ team per Extreme Vertical – For Youth \nOn-Site Registration Entry Fees \n$15.00/ team per Big Air\,$15.00/ team per Speed Retrieve wave\,$15.00/ team per Extreme Vertical – For Adult $15.00/ team per Big Air\,$15.00/ team per Speed Retrieve wave\,$15.00/ team per Extreme Vertical – For Youth \nPLEASE NOTE: this is a Fun Jump.
URL:http://hudsonvalleydockdogs.com/event/spring-fling-fun-jump/
LOCATION:K9 Aqua Sports Club\, 639 Smithfield Rd\, Millerton\, NY\, United States
CATEGORIES:DockDogs Affiliated Club Event,Fun Jump
ORGANIZER;CN="Hudson Valley DockDogs":MAILTO:info@hudsonvalleydockdogs.com
END:VEVENT
BEGIN:VEVENT
DTSTART;VALUE=DATE:20170805
DTEND;VALUE=DATE:20170807
DTSTAMP:20260423T123035
CREATED:20160609T044355Z
LAST-MODIFIED:20170323T145947Z
UID:24618-1501891200-1502063999@hudsonvalleydockdogs.com
SUMMARY:Summer Plunge---HVDD CLUB EVENT (Millerton NY)
DESCRIPTION:Register Today\nSat. Aug 5\, 2017 \n\nOnsite Registration/Practice – 08:00 am\nBig Air Wave # 1 – 09:00 am\nBig Air Wave # 2 – 10:30 am\nBig Air Wave # 3 – 12:00 pm\nBig Air Wave # 4 – 01:30 pm\nExtreme Vertical (All in One Finals) – 03:30 pm\n\nSun. Aug 6\, 2017 \n\nOnsite Registration/Practice – 08:00 am\nBig Air Wave # 5 – 09:00 am\nBig Air Wave # 6 – 10:30 am\nBig Air Wave # 7 – 12:00 pm\nSpeed Retrieve (All in One) – 01:30 pm\nBig Air Finals – 03:30 pm (Pro\, Semi Pro\, Contender & Amateur Finals)
URL:http://hudsonvalleydockdogs.com/event/summer-plunge/
LOCATION:K9 Aqua Sports Club\, 639 Smithfield Rd\, Millerton\, NY\, United States
CATEGORIES:DockDogs Affiliated Club Event
ORGANIZER;CN="Hudson Valley DockDogs":MAILTO:info@hudsonvalleydockdogs.com
END:VEVENT
BEGIN:VEVENT
DTSTART;VALUE=DATE:20170603
DTEND;VALUE=DATE:20170605
DTSTAMP:20260423T123035
CREATED:20160525T041139Z
LAST-MODIFIED:20170323T145021Z
UID:316-1496448000-1496620799@hudsonvalleydockdogs.com
SUMMARY:Adirondack Woof Stock – HVDD CLUB EVENT (Chestertown NY)
DESCRIPTION:Register Today\nSat. Jun 03\, 2017 \n\nOnsite Registration/Practice – 08:30 am\nBig Air Wave # 1 – 09:30 am\nBig Air Wave # 2 – 11:00 am\nBig Air Wave # 3 – 01:00 pm\nExtreme Vertical (All in one) – 03:30 pm\n\nSun. Jun 04\, 2017\n\nOnsite Registration/Practice– 08:30 am\nBig Air Wave # 4 – 09:30 am\nBig Air Wave # 5 – 11:00 am\nSpeed Retrieve (All in one Finals) – 01:30 pm\nBIG AIR FINALS – 03:30 pm (Amateur\, Contender\, Semi-Pro\, Pro)
URL:http://hudsonvalleydockdogs.com/event/adirondack-woof-stock-a-weekend-of-peace-paws-music/
LOCATION:6339 US Route 9\, 6339 US Route 9\, Chestertown\, NY\, 12817\, United States
CATEGORIES:DockDogs Affiliated Club Event
ORGANIZER;CN="Hudson Valley DockDogs":MAILTO:info@hudsonvalleydockdogs.com
END:VEVENT
BEGIN:VEVENT
DTSTART;VALUE=DATE:20160515
DTEND;VALUE=DATE:20160516
DTSTAMP:20260423T123035
CREATED:20160423T160700Z
LAST-MODIFIED:20160502T035125Z
UID:121-1463270400-1463356799@hudsonvalleydockdogs.com
SUMMARY:Jumping for BAARK
DESCRIPTION:Register Today\n\nBig Air Wave # 1 – 09:00 am\nSpeed Retrieve (All in one Finals) – 10:30 am\nBig Air Wave # 2 – 12:00 pm\nBig Air Wave # 3 – 01:30 pm\nExtreme Vertical (All in one) – 03:00 pm\nBig Air Finals – 04:00 pm (Divisional Finals Format)
URL:http://hudsonvalleydockdogs.com/event/jumping-for-baark/
LOCATION:K9 Aqua Sports Club\, 639 Smithfield Rd\, Millerton\, NY\, United States
CATEGORIES:DockDogs Affiliated Club Event
END:VEVENT
END:VCALENDAR