BEGIN:VCALENDAR
VERSION:2.0
PRODID:-//Hudson Valley DockDogs - ECPv6.6.4.2//NONSGML v1.0//EN
CALSCALE:GREGORIAN
METHOD:PUBLISH
X-ORIGINAL-URL:http://hudsonvalleydockdogs.com
X-WR-CALDESC:Events for Hudson Valley DockDogs
REFRESH-INTERVAL;VALUE=DURATION:PT1H
X-Robots-Tag:noindex
X-PUBLISHED-TTL:PT1H
BEGIN:VTIMEZONE
TZID:America/New_York
BEGIN:DAYLIGHT
TZOFFSETFROM:-0500
TZOFFSETTO:-0400
TZNAME:EDT
DTSTART:20180311T070000
END:DAYLIGHT
BEGIN:STANDARD
TZOFFSETFROM:-0400
TZOFFSETTO:-0500
TZNAME:EST
DTSTART:20181104T060000
END:STANDARD
END:VTIMEZONE
BEGIN:VEVENT
DTSTART;VALUE=DATE:20180601
DTEND;VALUE=DATE:20180604
DTSTAMP:20260419T132908
CREATED:20170220T204952Z
LAST-MODIFIED:20180420T012651Z
UID:25462-1527811200-1528070399@hudsonvalleydockdogs.com
SUMMARY:Dave's Soda and Pet City (Holyoke MA)
DESCRIPTION:Fri. Jun 1\, 2018\nOnsite Registration/Practice – 12:00 pm\nPractice in between waves all weekend as time allows\nBig Air Wave # 1 – 01:00 pm\nBig Air Wave # 2 – 02:30 pm\nBig Air Wave # 3 – 04:00 pm \nSat. Jun 2\, 2018\nOnsite Registration/Practice – 09:00 am\nBig Air Wave # 4 – 10:00 am\nBig Air Wave # 5 – 11:30 am\nBig Air Wave # 6 – 01:00 pm\nExtreme Vertical (All in One Finals) – 03:30 pm \nSun. Jun 3\, 2018\nOnsite Registration/Practice – 09:00 am\nBig Air Wave # 7 – 10:00 am\nBig Air Wave # 8 – 12:30 pm\nSpeed Retrieve (All in One) – 02:00 pm\nBig Air Finals – 03:30 pm (Pro\, Semi Pro\, Contender & Amateur Finals) \nPre-Registration Entry Fees \n$27.00/ team per Big Air\,$27.00/ team per Speed Retrieve wave\,$27.00/ team per Extreme Vertical – For Adult $12.00/ team per Big Air\,$27.00/team per Speed Retrieve wave\,$27.00/ team per Extreme Vertical – For Youth \nOn-Site Registration Entry Fees \n$30.00/ team per Big Air\,$30.00/ team per Speed Retrieve wave\,$30.00/ team per Extreme Vertical – For Adult $15.00/ team per Big Air\,$30.00/ team per Speed Retrieve wave\,$30.00/ team per Extreme Vertical – For Youth
URL:http://hudsonvalleydockdogs.com/event/daves-soda-and-pet-city/
LOCATION:Dave’s Soda & Pet City\, 151 Springfield St\, Agawam\, MA\, 01001\, United States
CATEGORIES:DockDogs Worldwide National Event
END:VEVENT
END:VCALENDAR